Workbook
Name Exp: #REF!
Name Nal: #REF!
Name presupuesto: #REF!
Name real: #REF!

Sheet Calif y Grad de Crédito
B2: AGROSILICIUM MEJISULFATOS S.A.S. en proceso de negociación de emergencia
B3: Nit: 890.926.985 - 3
B4: Con corte a Octurbre 31 de 2024
B5: CALIFICACIÓN Y GRADUACIÓN DE CRÉDITOS
B6: CREDITOS DE PRIMERA CLASE
B7: Pertenencen a la PRIMERA CLASE DE CREDITOS, de conformidad en lo dispuesto en el articulo
B8: 2495 del Codigo Civil.
B10: NOMBRE O RAZON SOCIAL | C10: IDENTIFICACION | D10: DIRECCION | E10: CIUDAD | F10: TIPO DE OBLIGACION | G10: N° OBLIGACION | H10: FECHA DE VENCIMIENTO DE LA OBLIGACION | I10: FECHA DE CORTE DE LA OBLIGACION | J10: CAPITAL
B11: ACEVEDO CANO ANDRES EMILIO | C11: 71420447 | D11: CR 6A 10 97 | E11: Medellín | F11: PAGOS LABORALES | G11: 001-CFC-00000017-00 | H11: 44985 | I11: 45133 | J11: 2268639
B12: ALMEIDA RONDON JUAN PABLO | C12: 91183654 | D12: VEREDA EL CEDRO | E12: Angelópolis | F12: PAGOS LABORALES | G12: 001-CFC-00000017-00 | H12: 44985 | I12: 45133 | J12: 1325696
B13: ALVAREZ ARANGO JORGE ANDRES | C13: 70853588 | D13: CALLE 74 #31-89 INT 201 | E13: Medellín | F13: PAGOS LABORALES | G13: 001-CFC-00000017-00 | H13: 44985 | I13: 45133 | J13: 2584617
B14: AMARILES ROLDAN EGIDIO DE JESUS | C14: 8010751 | D14: CR 45 54-13 | E14: Itagüí | F14: PAGOS LABORALES | G14: 001-CFC-00000017-00 | H14: 44985 | I14: 45133 | J14: 2260089
B15: ARBOLEDA COLORADO YONY ARLEY | C15: 1015276497 | D15: VEREDA EL BARRO | E15: Angelópolis | F15: PAGOS LABORALES | G15: 001-CFC-00000017-00 | H15: 44985 | I15: 45133 | J15: 1792330
B16: ARBOLEDA ZAPATA ROBIRIO DE JESUS | C16: 98528163 | D16: CL 36 66 B-97 | E16: Itagüí | F16: PAGOS LABORALES | G16: 001-CFC-00000017-00 | H16: 44985 | I16: 45133 | J16: 1748785
B17: ARIAS AGUDELO NORBEY | C17: 16055278 | D17: CALLE 46 #35C 23 | E17: Manizales | F17: PAGOS LABORALES | G17: 001-NQ-00000380-00 | H17: 44895 | I17: 45133 | J17: 2516007
B18: ARIAS AGUDELO NORBEY | C18: 16055278 | D18: CALLE 46 #35C 23 | E18: Manizales | F18: PAGOS LABORALES | G18: 001-NQ-00000384-00 | H18: 44926 | I18: 45133 | J18: 1126951
B19: ARIAS AGUDELO NORBEY | C19: 16055278 | D19: CALLE 46 #35C 23 | E19: Manizales | F19: PAGOS LABORALES | G19: 001-NQ-00000391-00 | H19: 44972 | I19: 45133 | J19: 1340464
B20: ARIAS AGUDELO NORBEY | C20: 16055278 | D20: CALLE 46 #35C 23 | E20: Manizales | F20: PAGOS LABORALES | G20: 001-NQ-00000393-00 | H20: 44985 | I20: 45133 | J20: 982914
B21: ARROYAVE SUAZA CARLOS MARIO | C21: 71141288 | D21: VEREDA SANTA BARBARA | E21: Angelópolis | F21: PAGOS LABORALES | G21: 001-CFC-00000017-00 | H21: 44985 | I21: 45133 | J21: 1391668
B22: AVELLANEDA JAIME YEFER ALEXANDER | C22: 11257388 | D22: CR 9 NTE 9 60 BLOQUE 10 APTO. 301 | E22: Manizales | F22: PAGOS LABORALES | G22: 001-NQ-00000380-00 | H22: 44895 | I22: 45133 | J22: 4356850
... B106: ZAPATA ZAPATA CARLOS MARIO | C106: 3455865 | D106: MARIA AUXILIADORA ANGELOPOLIS | E106: Angelópolis | F106: PAGOS LABORALES | G106: 001-CFC-00000017-00 | H106: 44985 | I106: 45133 | J106: 1669778
B107: TOTAL CREDITOS LABORALES | J107: =SUM(J11:J106) -> 343782956
B109: CREDITOS FISCALES
B110: Direccion de Impuestos y Aduanas Nacionales | C110: 800197384 | D110: Cr 52 No. 42 43 | E110: Medellin | F110: Impuestos | G110: 3505616466790 | H110: 44348 | I110: 45133 | J110: 13531000
B111: GOBERNACION DE ANTIOQUIA | F111: Impuesto vehicular | I111: 45133 | J111: 751000
B112: GOBERNACION DE ANTIOQUIA | F112: Sistematizacion | I112: 45133 | J112: 63350
B113: Municipio de Angelopolis | C113: 890981493 | D113: Cl 10 9 61 Alcaldía Municipio de Angelópolis | E113: Angelópolis | F113: Impuestos | G113: Ret Bim 3 2022 | H113: 44762 | I113: 45133 | J113: 3295000
B114: Municipio de Angelopolis | C114: 890981493 | D114: Cl 10 9 61 Alcaldía Municipio de Angelópolis | E114: Angelópolis | F114: Impuestos | G114: Ret Bim 4 2022 | H114: 44824 | I114: 45133 | J114: 2502000
B115: Municipio de Angelopolis | C115: 890981493 | D115: Cl 10 9 61 Alcaldía Municipio de Angelópolis | E115: Angelópolis | F115: Impuestos | G115: Ret Bim 5 2022 | H115: 44885 | I115: 45133 | J115: 2369000
B116: Municipio de Angelopolis | C116: 890981493 | D116: Cl 10 9 61 Alcaldía Municipio de Angelópolis | E116: Angelópolis | F116: Impuestos | G116: Ret Bim 6 2022 | H116: 44946 | I116: 45133 | J116: 3413000
B117: Municipio de Angelopolis | C117: 890981493 | D117: Cl 10 9 61 Alcaldía Municipio de Angelópolis | E117: Angelópolis | F117: Impuestos | G117: ICA 2022 | I117: 45133 | J117: 56797563
B118: TOTAL CREDITOS FISCALES | J118: =SUM(J110:J117) -> 82721913
B119: TOTAL CREDITOS PRIMERA CLASE | J119: =J118+J107 -> 426504869
B121: CREDITOS DE SEGUNDA CLASE
B122: Pertenecientes a la SEGUNDA CLASE DE CREDITOS de conformidad en lo dispuesto en el articulo
B123: 2497 del Codigo Civil.
B125: NOMBRE O RAZON SOCIAL | C125: IDENTIFICACION | D125: DIRECCION | E125: CIUDAD | F125: TIPO DE OBLIGACION | G125: N° OBLIGACION | H125: FECHA DE VENCIMIENTO DE LA OBLIGACION | I125: FECHA DE CORTE DE LA OBLIGACION | J125: CAPITAL
B126: ALIANZA FIDUCIARIA SA FIDEICOMISOS | C126: 830053812 | D126: CR 15 100 43 | E126: Bogotá, D.C. | F126: Hipotecario | G126: 215 | H126: 45011 | I126: 45133 | J126: 180000000
B127: ALIANZA FIDUCIARIA SA FIDEICOMISOS | C127: 830053812 | D127: CR 15 100 43 | E127: Bogotá, D.C. | F127: Hipotecario | G127: 216 | H127: 45000 | I127: 45133 | J127: 7535774838
B128: ALIANZA FIDUCIARIA SA FIDEICOMISOS | C128: 830053812 | D128: CR 15 100 43 | E128: Bogotá, D.C. | F128: Hipotecario | G128: 220 | H128: 45014 | I128: 45133 | J128: 500000000
...

Sheet Derechos de voto
B2: AGROSILICIUM MEJISULFATOS S.A.S. en proceso de negociación de emergencia
B3: Nit: 890.926.985 - 3
B4: Con corte a 31 de octubre de 2024
B5: DERECHOS DE VOTO
B7: CATEGORIA A
B9: NOMBRE O RAZON SOCIAL | C9: IDENTIFICACION | D9: VINCULO | E9: FECHA DE VENCIMIENTO DE LA OBLIGACION | F9: FECHA DE CORTE DE LA OBLIGACION | G9: CAPITAL | H9: Valor capital vencido actualizado al ipc Dane | I9: DERECHOS DE VOTO | J9: % PARTICIPACION DERECHOS DE VOTO
B10: ACEVEDO CANO ANDRES EMILIO | C10: 71420447 | D10: Ninguno | E10: 44985 | F10: 45566 | G10: 2268639 | H10: 2496143.1 | I10: 2496143.1 | J10: 5.0450296e-05
B11: ALMEIDA RONDON JUAN PABLO | C11: 91183654 | D11: Ninguno | E11: 44985 | F11: 45566 | G11: 1325696 | H11: 1458639.7 | I11: 1458639.7 | J11: 2.9481004e-05
B12: ALVAREZ ARANGO JORGE ANDRES | C12: 70853588 | D12: Ninguno | E12: 44985 | F12: 45566 | G12: 2584617 | H12: 2843808.1 | I12: 2843808.1 | J12: 5.7477057e-05
B13: AMARILES ROLDAN EGIDIO DE JESUS | C13: 8010751 | D13: Ninguno | E13: 44985 | F13: 45566 | G13: 2260089 | H13: 2486735.7 | I13: 2486735.7 | J13: 5.026016e-05
B14: ARBOLEDA COLORADO YONY ARLEY | C14: 1015276497 | D14: Ninguno | E14: 44985 | F14: 45566 | G14: 1792330 | H14: 1972068.8 | I14: 1972068.8 | J14: 3.9858073e-05
B15: ARBOLEDA ZAPATA ROBIRIO DE JESUS | C15: 98528163 | D15: Ninguno | E15: 44985 | F15: 45566 | G15: 1748785 | H15: 1924157 | I15: 1924157 | J15: 3.8889714e-05
B16: ARIAS AGUDELO NORBEY | C16: 16055278 | D16: Ninguno | E16: 44895 | F16: 45566 | G16: 2516007 | H16: 2807402 | I16: 2807402 | J16: 5.5951299e-05
B17: ARIAS AGUDELO NORBEY | C17: 16055278 | D17: Ninguno | E17: 44926 | F17: 45566 | G17: 1126951 | H17: 1251440.5 | I17: 1251440.5 | J17: 2.5061286e-05
B18: ARIAS AGUDELO NORBEY | C18: 16055278 | D18: Ninguno | E18: 44972 | F18: 45566 | G18: 1340464 | H18: 1477896.4 | I18: 1477896.4 | J18: 2.9809417e-05
B19: ARIAS AGUDELO NORBEY | C19: 16055278 | D19: Ninguno | E19: 44985 | F19: 45566 | G19: 982914 | H19: 1081482.8 | I19: 1081482.8 | J19: 2.1858172e-05
B20: ARROYAVE SUAZA CARLOS MARIO | C20: 71141288 | D20: Ninguno | E20: 44985 | F20: 45566 | G20: 1391668 | H20: 1531227.5 | I20: 1531227.5 | J20: 3.0948098e-05
B21: AVELLANEDA JAIME YEFER ALEXANDER | C21: 11257388 | D21: Ninguno | E21: 44895 | F21: 45566 | G21: 4356850 | H21: 4861444.8 | I21: 4861444.8 | J21: 9.6888211e-05
... B105: ZAPATA ZAPATA CARLOS MARIO | C105: 3455865 | D105: Ninguno | E105: 44985 | F105: 45566 | G105: 1669778 | H105: 1837227 | I105: 1837227 | J105: 3.7132746e-05
B106: TOTAL CATEGORIA A | G106: =SUM(G10:G105) -> 343782956 | H106: =SUM(H10:H105) -> 3.8095207e+08 | I106: =SUM(I10:I105) -> 3.8095207e+08 | J106: =SUM(J10:J105) -> 0.0094450912
B108: CATEGORIA B
B110: NOMBRE O RAZON SOCIAL | C110: IDENTIFICACION | D110: VINCULO | E110: FECHA DE VENCIMIENTO DE LA OBLIGACION | F110: FECHA DE CORTE DE LA OBLIGACION | G110: CAPITAL | H110: Valor capital vencido actualizado al ipc Dane | I110: DERECHOS DE VOTO | J110: % PARTICIPACION DERECHOS DE VOTO
B111: Direccion de Impuestos y Aduanas Nacionales | C111: 800197384 | D111: Ninguno | E111: 44348 | F111: 45133 | G111: 13531000 | H111: 15364358 | I111: 15364358 | J111: 0.00030090418
B112: GOBERNACION DE ANTIOQUIA | D112: Ninguno | F112: 45133 | G112: 751000 | H112: 6601349.7 | I112: 6601349.7 | J112: 1.6700838e-05
B113: GOBERNACION DE ANTIOQUIA | D113: Ninguno | F113: 45133 | G113: 63350 | H113: 556851.53 | I113: 556851.53 | J113: 1.4087857e-06
B114: Municipio de Angelopolis | C114: 890981493 | D114: Ninguno | E114: 44762 | F114: 45133 | G114: 3295000 | H114: 3505997.4 | I114: 3505997.4 | J114: 7.3274649e-05
B115: Municipio de Angelopolis | C115: 890981493 | D115: Ninguno | E115: 44824 | F115: 45133 | G115: 2502000 | H115: 2635442.3 | I115: 2635442.3 | J115: 5.5639809e-05
B116: Municipio de Angelopolis | C116: 890981493 | D116: Ninguno | E116: 44885 | F116: 45133 | G116: 2369000 | H116: 2470406.2 | I116: 2470406.2 | J116: 5.2682138e-05
B117: Municipio de Angelopolis | C117: 890981493 | D117: Ninguno | E117: 44946 | F117: 45133 | G117: 3413000 | H117: 3523160.4 | I117: 3523160.4 | J117: 7.5898749e-05
B118: Municipio de Angelopolis | C118: 890981493 | D118: Ninguno | F118: 45133 | G118: 56797563 | H118: 4.9925509e+08 | I118: 4.9925509e+08 | J118: 0.0012630718
B119: TOTAL CATEGORIA B | G119: =SUM(G111:G118) -> 82721913 | H119: =SUM(H111:H118) -> 5.3391266e+08 | I119: =SUM(I111:I118) -> 5.3391266e+08 | J119: =SUM(J111:J118) -> 0.0018395809
B122: CATEGORIA C
B124: NOMBRE O RAZON SOCIAL | C124: IDENTIFICACION | E124: FECHA DE VENCIMIENTO DE LA OBLIGACION | F124: FECHA DE CORTE DE LA OBLIGACION | G124: CAPITAL | H124: Valor capital vencido actualizado al ipc Dane | I124: DERECHOS DE VOTO | J124: % PARTICIPACION DERECHOS DE VOTO
B125: BANCO DAVIVIENDA S.A. | C125: 860034313 | D125: Ninguno | E125: 44993 | F125: 45146 | G125: 6.4948508e+08 | H125: 6.6663682e+08 | I125: 6.6663682e+08 | J125: 0.014443336
B126: BANCO DAVIVIENDA S.A. | C126: 860034313 | D126: Ninguno | E126: 44993 | F126: 45146 | G126: 65160821 | H126: 66881602 | I126: 66881602 | J126: 0.001449055
B127: BANCO DE BOGOTA | C127: 860002964 | D127: Ninguno | E127: 44993 | F127: 45146 | G127: 1180810579 | H127: 1.2119937e+09 | I127: 1.2119937e+09 | J127: 0.026259023
B128: BANCO DE BOGOTA | C128: 860002964 | D128: Ninguno | E128: 44993 | F128: 45146 | G128: 119927777 | H128: 1.2309486e+08 | I128: 1.2309486e+08 | J128: 0.0026669699
B129: BANCOLOMBIA S.A. | C129: 890903938 | D129: Ninguno | E129: 44993 | F129: 45146 | G129: 4289119391 | H129: 4.4023874e+09 | I129: 4.4023874e+09 | J129: 0.095382008
B130: BANCOLOMBIA S.A. | C130: 890903938 | D130: Ninguno | E130: 44993 | F130: 45146 | G130: 3.4544395e+08 | H130: 3.545665e+08 | I130: 3.545665e+08 | J130: 0.0076820285
B131: ALIANZA FIDUCIARIA SA FIDEICOMISOS | C131: 830053812 | D131: Ninguno | E131: 45011 | F131: 45146 | G131: 180000000 | H131: 1.8419425e+08 | I131: 1.8419425e+08 | J131: 0.004002864
...

Sheet Hoja1
A4: PRIMERA CLASE | B4: Saldo Inicial | C4: Pagos efectuados | D4: Nuevo saldo
A5: LABORAL | B5: 710346676 | C5: =+B5-D5 -> 366563720 | D5: =+'Calif y Grad de Crédito'!J107 -> 343782956
A6: FISCALES | B6: 82721913 | C6: =+B6-D6 -> 0 | D6: =+'Calif y Grad de Crédito'!J118 -> 82721913
A7: TOTAL PRIMERA CLASE | B7: =SUM(B5:B6) -> 793068589 | C7: =+B7-D7 -> 366563720 | D7: =SUM(D5:D6) -> 426504869
A8: SEGUNDA CLASE | B8: 28220244640 | C8: =+B8-D8+20 -> 0.052280426 | D8: =+'Calif y Grad de Crédito'!J265 -> 2.8220245e+10
A9: CUARTA CLASE | B9: 2645543444 | C9: =+B9-D9 -> -0.36000013 | D9: =+'Calif y Grad de Crédito'!J405 -> 2.6455434e+09
A10: QUINTA CLASE | B10: 13675510268 | C10: =+B10-D10-0.5 -> 3.8146973e-06 | D10: =+'Calif y Grad de Crédito'!J1375 -> 1.367551e+10
A11: TOTAL GRADUACION DE CREDITOS | B11: =B7+B8+B9+B10 -> 45334366941 | C11: =+B11-D11 -> 3.665637e+08 | D11: =SUM(D7:D10) -> 4.4967803e+10
